{"text_format":"1","workbook":"xlsx","n_sheets":5,"sheets":["Data Entry","Equipment","Ventilation","Metric","Stocking Density"],"not_rendered":{"charts":0,"images":3,"macros":1,"external_links":0,"defined_names":2,"comments":0,"pivot_tables":0},"unopened":[],"bounds":{"document_bytes":16777216,"sheet_cells":100000,"rows_first":2000,"rows_last":500,"rows_between":2000,"halvings":0,"cell_chars":16384,"cell_head_chars":4096},"cells_cut":0,"cells_raw":0,"read":"whole","date_system":"1900"}

{"sheet":"Data Entry","index":0,"n_rows":24,"n_cols":7,"rows_kept":24,"cut":false,"hidden":false,"merged":[[0,1,0,2],[2,1,2,3],[5,1,6,1],[14,6,14,7],[16,6,16,8],[2,6,2,7],[4,6,5,6],[7,6,8,6],[10,6,11,6]]}
[null,"Data Entry"]
[]
[null,null,null,null,null,null,"Ventilation Information"]
[null,"Birds"]
[null,"Number Birds",null,null,null,null,"Number of minimum ventilation fans available to be used"]
[null,"Estimated Depletion Weight (kg)"]
[]
[null,null,null,null,null,null,"Minimum ventilation fan capacity m³/hr"]
[null,"House Dimensions"]
[null,"Length (m)"]
[null,"Width (m)",null,null,null,null,"Cycle timer Length (Seconds)"]
[]
[null,"Actual House Drinkers","Enter either nipple or bell field only"]
[null,"Number of nipples",null,{"$f":"IF((COUNT(D12:D13)>1),\"Error\",\"\")","v":""}]
[null,"Number of bell drinkers",null,null,null,null,"Target Stocking Density"]
[null,null,{"$f":"IF((COUNT(C14:C15)>1),\"Error\",\"\")","v":""}]
[null,"Actual House Feeders","Enter either pan, tube or track field only"]
[null,"Length of track (m)",null,{"$f":"IF((COUNT(D16:D17)>1),\"Error\",\"\")","v":""},null,null,"Select target from pick list"]
[null,"Tube Feeders"]
[null,"Number of pans"]
[null,null,{"$f":"IF((COUNT(C18:C20)>1),\"Error\",\"\")","v":""}]
[]
[]
[null,"Go to:"]

{"sheet":"Equipment","index":1,"n_rows":29,"n_cols":10,"rows_kept":29,"cut":false,"hidden":false,"merged":[[22,1,23,1],[22,6,23,6],[8,11,8,12],[7,1,8,1],[10,1,11,1],[13,1,14,1],[16,1,17,1],[19,1,20,1],[19,6,20,6],[10,6,11,6],[13,6,14,6],[16,6,17,6]]}
[null,"House Setup"]
[]
[null,"House Area (m2)",null,{"$f":"'Data Entry'!C10*'Data Entry'!C11","v":0}]
[]
[]
[null,null,null,"Actual","Target",null,null,null,"Actual","Recommended"]
[null,null,null,null,null,null,null,null,null,"Minimum"]
[null,"Stocking Density (kg/m2)",null,{"$f":"IFERROR(('Data Entry'!C5*'Data Entry'!C6)/('Data Entry'!C10*'Data Entry'!C11),\"\")","v":""},{"$f":"IFERROR(VALUE(LEFT('Data Entry'!G17,2)),\"\")","v":""}]
[]
[]
[null,"Birds per nipple drinker",null,{"$f":"IFERROR(('Data Entry'!C5/'Data Entry'!C14),\"\")","v":""},{"$f":"IF('Data Entry'!$C$14=\"\",\"\",(IF('Data Entry'!C6<=3,12,9)))","v":""},null,"Nipples drinkers per house",null,{"$f":"IF('Data Entry'!C14=\"\",\"\",'Data Entry'!C14)","v":""},{"$f":"IF('Data Entry'!$C$14=\"\",\"\",(IF('Data Entry'!C6<=3,(ROUNDUP('Data Entry'!C5/12,0)),ROUNDUP('Data Entry'!C5/9,0))))","v":""}]
[]
[]
[null,"Birds per bell drinker1",null,{"$f":"IFERROR((IF('Data Entry'!C15=\"\",\"\",('Data Entry'!C5/'Data Entry'!C15))),\"\")","v":""},{"$f":"IF(D14=\"\",\"\",1000/8)","v":""},null,"Bell drinkers per house",null,{"$f":"IF('Data Entry'!C15=\"\",\"\",'Data Entry'!C15)","v":""},{"$f":"IF('Data Entry'!C15=\"\",\"\",ROUNDUP('Data Entry'!C5/125,0))","v":""}]
[]
[]
[null,"Track feeder (cm/bird)",null,{"$f":"IFERROR(IF('Data Entry'!C18=\"\",\"\",('Data Entry'!C18*200)/'Data Entry'!C5),\"\")","v":""},{"$f":"IF('Data Entry'!C18=\"\",\"\",2.5)","v":""},null,"Track feeder length (m)",null,{"$f":"IF('Data Entry'!C18=\"\",\"\",'Data Entry'!C18)","v":""},{"$f":"IF('Data Entry'!C18=\"\",\"\",('Data Entry'!C5*2.5)/200)","v":""}]
[]
[]
[null,"Birds per tube feeder2",null,{"$f":"IF('Data Entry'!C19=\"\",\"\",'Data Entry'!C5/'Data Entry'!C19)","v":""},{"$f":"IF('Data Entry'!C19=\"\",\"\",70)","v":""},null,"Tube feeders per house ",null,{"$f":"IF('Data Entry'!C19=\"\",\"\",'Data Entry'!C19)","v":""},{"$f":"IFERROR(ROUNDUP(IF('Data Entry'!C19=\"\",\"\",'Data Entry'!C5/Equipment!E20),0),\"\")","v":""}]
[]
[]
[null,"Birds per pan feeder",null,{"$f":"IFERROR(IF('Data Entry'!C20=\"\",\"\",('Data Entry'!C5/'Data Entry'!C20)),\"\")","v":""},{"$f":"IF('Data Entry'!C20=\"\",\"\",IF('Data Entry'!C6>3.5,45,80))","v":""},null,"Pan feeders per house ",null,{"$f":"IF('Data Entry'!C20=\"\",\"\",'Data Entry'!C20)","v":""},{"$f":"IFERROR(IF('Data Entry'!C20=\"\",\"\",('Data Entry'!C5/Equipment!E23)),\"\")","v":""}]
[]
[]
[null,null,null,"Values in red exceed recommended maximum",null,null,null,null,"Values in red below recommended minimum"]
[]
[null,"1. Target based on 40cm diameter bell drinker"]
[null,"2. Target based on 38cm diameter tube feeder"]

{"sheet":"Ventilation","index":2,"n_rows":33,"n_cols":11,"rows_kept":33,"cut":false,"hidden":false,"merged":[]}
[]
[null,"Ventilation"]
[]
[null,"Bird Body Weight (kg)","Minimum House Air requirements (m3/h)","Ideal Number of Minimum Ventilation Fans Required","Time on (s)","Time off (s)","Actual number of Minimum Ventilation Fans","Time on (s)","Time off (s)"]
[]
[null,0.05,{"$f":"Metric!E8","v":0},{"$f":"Metric!H8","v":""},{"$f":"Metric!F8","v":""},{"$f":"Metric!G8","v":""},{"$f":"Metric!I8","v":0},{"$f":"Metric!J8","v":""},{"$f":"Metric!K8","v":""},null,"If Time On / Time off values are in red"]
[null,0.1,{"$f":"Metric!E9","v":0},{"$f":"Metric!H9","v":""},{"$f":"Metric!F9","v":""},{"$f":"Metric!G9","v":""},{"$f":"Metric!I9","v":0},{"$f":"Metric!J9","v":""},{"$f":"Metric!K9","v":""},null,"there is insufficient ventilation, consider:"]
[null,0.2,{"$f":"Metric!E10","v":0},{"$f":"Metric!H10","v":""},{"$f":"Metric!F10","v":""},{"$f":"Metric!G10","v":""},{"$f":"Metric!I10","v":0},{"$f":"Metric!J10","v":""},{"$f":"Metric!K10","v":""},null,"1. Increase number of minimum ventilation fans or fan capacity"]
[null,0.3,{"$f":"Metric!E11","v":0},{"$f":"Metric!H11","v":""},{"$f":"Metric!F11","v":""},{"$f":"Metric!G11","v":""},{"$f":"Metric!I11","v":0},{"$f":"Metric!J11","v":""},{"$f":"Metric!K11","v":""},null,"2. Lock a fan on and use a second fan on a timer"]
[null,0.4,{"$f":"Metric!E12","v":0},{"$f":"Metric!H12","v":""},{"$f":"Metric!F12","v":""},{"$f":"Metric!G12","v":""},{"$f":"Metric!I12","v":0},{"$f":"Metric!J12","v":""},{"$f":"Metric!K12","v":""}]
[null,0.5,{"$f":"Metric!E13","v":0},{"$f":"Metric!H13","v":""},{"$f":"Metric!F13","v":""},{"$f":"Metric!G13","v":""},{"$f":"Metric!I13","v":0},{"$f":"Metric!J13","v":""},{"$f":"Metric!K13","v":""}]
[null,0.6,{"$f":"Metric!E14","v":0},{"$f":"Metric!H14","v":""},{"$f":"Metric!F14","v":""},{"$f":"Metric!G14","v":""},{"$f":"Metric!I14","v":0},{"$f":"Metric!J14","v":""},{"$f":"Metric!K14","v":""}]
[null,0.7,{"$f":"Metric!E15","v":0},{"$f":"Metric!H15","v":""},{"$f":"Metric!F15","v":""},{"$f":"Metric!G15","v":""},{"$f":"Metric!I15","v":0},{"$f":"Metric!J15","v":""},{"$f":"Metric!K15","v":""}]
[null,0.8,{"$f":"Metric!E16","v":0},{"$f":"Metric!H16","v":""},{"$f":"Metric!F16","v":""},{"$f":"Metric!G16","v":""},{"$f":"Metric!I16","v":0},{"$f":"Metric!J16","v":""},{"$f":"Metric!K16","v":""}]
[null,0.9,{"$f":"Metric!E17","v":0},{"$f":"Metric!H17","v":""},{"$f":"Metric!F17","v":""},{"$f":"Metric!G17","v":""},{"$f":"Metric!I17","v":0},{"$f":"Metric!J17","v":""},{"$f":"Metric!K17","v":""}]
[null,1,{"$f":"Metric!E18","v":0},{"$f":"Metric!H18","v":""},{"$f":"Metric!F18","v":""},{"$f":"Metric!G18","v":""},{"$f":"Metric!I18","v":0},{"$f":"Metric!J18","v":""},{"$f":"Metric!K18","v":""}]
[null,1.2,{"$f":"Metric!E19","v":0},{"$f":"Metric!H19","v":""},{"$f":"Metric!F19","v":""},{"$f":"Metric!G19","v":""},{"$f":"Metric!I19","v":0},{"$f":"Metric!J19","v":""},{"$f":"Metric!K19","v":""}]
[null,1.4,{"$f":"Metric!E20","v":0},{"$f":"Metric!H20","v":""},{"$f":"Metric!F20","v":""},{"$f":"Metric!G20","v":""},{"$f":"Metric!I20","v":0},{"$f":"Metric!J20","v":""},{"$f":"Metric!K20","v":""}]
[null,1.6,{"$f":"Metric!E21","v":0},{"$f":"Metric!H21","v":""},{"$f":"Metric!F21","v":""},{"$f":"Metric!G21","v":""},{"$f":"Metric!I21","v":0},{"$f":"Metric!J21","v":""},{"$f":"Metric!K21","v":""}]
[null,1.8,{"$f":"Metric!E22","v":0},{"$f":"Metric!H22","v":""},{"$f":"Metric!F22","v":""},{"$f":"Metric!G22","v":""},{"$f":"Metric!I22","v":0},{"$f":"Metric!J22","v":""},{"$f":"Metric!K22","v":""}]
[null,2,{"$f":"Metric!E23","v":0},{"$f":"Metric!H23","v":""},{"$f":"Metric!F23","v":""},{"$f":"Metric!G23","v":""},{"$f":"Metric!I23","v":0},{"$f":"Metric!J23","v":""},{"$f":"Metric!K23","v":""}]
[null,2.2000000000000002,{"$f":"Metric!E24","v":0},{"$f":"Metric!H24","v":""},{"$f":"Metric!F24","v":""},{"$f":"Metric!G24","v":""},{"$f":"Metric!I24","v":0},{"$f":"Metric!J24","v":""},{"$f":"Metric!K24","v":""}]
[null,2.4,{"$f":"Metric!E25","v":0},{"$f":"Metric!H25","v":""},{"$f":"Metric!F25","v":""},{"$f":"Metric!G25","v":""},{"$f":"Metric!I25","v":0},{"$f":"Metric!J25","v":""},{"$f":"Metric!K25","v":""}]
[null,2.6,{"$f":"Metric!E26","v":0},{"$f":"Metric!H26","v":""},{"$f":"Metric!F26","v":""},{"$f":"Metric!G26","v":""},{"$f":"Metric!I26","v":0},{"$f":"Metric!J26","v":""},{"$f":"Metric!K26","v":""}]
[null,2.8,{"$f":"Metric!E27","v":0},{"$f":"Metric!H27","v":""},{"$f":"Metric!F27","v":""},{"$f":"Metric!G27","v":""},{"$f":"Metric!I27","v":0},{"$f":"Metric!J27","v":""},{"$f":"Metric!K27","v":""}]
[null,3,{"$f":"Metric!E28","v":0},{"$f":"Metric!H28","v":""},{"$f":"Metric!F28","v":""},{"$f":"Metric!G28","v":""},{"$f":"Metric!I28","v":0},{"$f":"Metric!J28","v":""},{"$f":"Metric!K28","v":""}]
[null,3.2,{"$f":"Metric!E29","v":0},{"$f":"Metric!H29","v":""},{"$f":"Metric!F29","v":""},{"$f":"Metric!G29","v":""},{"$f":"Metric!I29","v":0},{"$f":"Metric!J29","v":""},{"$f":"Metric!K29","v":""}]
[null,3.4,{"$f":"Metric!E30","v":0},{"$f":"Metric!H30","v":""},{"$f":"Metric!F30","v":""},{"$f":"Metric!G30","v":""},{"$f":"Metric!I30","v":0},{"$f":"Metric!J30","v":""},{"$f":"Metric!K30","v":""}]
[null,3.6,{"$f":"Metric!E31","v":0},{"$f":"Metric!H31","v":""},{"$f":"Metric!F31","v":""},{"$f":"Metric!G31","v":""},{"$f":"Metric!I31","v":0},{"$f":"Metric!J31","v":""},{"$f":"Metric!K31","v":""}]
[null,3.8,{"$f":"Metric!E32","v":0},{"$f":"Metric!H32","v":""},{"$f":"Metric!F32","v":""},{"$f":"Metric!G32","v":""},{"$f":"Metric!I32","v":0},{"$f":"Metric!J32","v":""},{"$f":"Metric!K32","v":""}]
[null,4,{"$f":"Metric!E33","v":0},{"$f":"Metric!H33","v":""},{"$f":"Metric!F33","v":""},{"$f":"Metric!G33","v":""},{"$f":"Metric!I33","v":0},{"$f":"Metric!J33","v":""},{"$f":"Metric!K33","v":""}]
[null,4.2,{"$f":"Metric!E34","v":0},{"$f":"Metric!H34","v":""},{"$f":"Metric!F34","v":""},{"$f":"Metric!G34","v":""},{"$f":"Metric!I34","v":0},{"$f":"Metric!J34","v":""},{"$f":"Metric!K34","v":""}]
[null,4.4000000000000004,{"$f":"Metric!E35","v":0},{"$f":"Metric!H35","v":""},{"$f":"Metric!F35","v":""},{"$f":"Metric!G35","v":""},{"$f":"Metric!I35","v":0},{"$f":"Metric!J35","v":""},{"$f":"Metric!K35","v":""}]

{"sheet":"Metric","index":3,"n_rows":37,"n_cols":18,"rows_kept":37,"cut":false,"hidden":true,"merged":[[2,1,2,9],[5,2,6,2],[5,3,6,3],[5,4,6,4],[5,5,5,10]]}
[null,null,null,null,null,null,null,null,null,null,null,null,null,null,null,null,null,"Caution – Not enough ventilation:"]
[null,null,null,null,null,null,null,null,null,null,null,null,null,null,null,null,null,"1. Increase number of minimum ventilation fans or fan capacity"]
[null,"V E N T I L A T I O N ",null,null,null,null,null,null,null,null,null,null,null,null,null,null,null,"2. Lock a fan on and use a second fan on a timer"]
[null,null,null,"Number of Minimum Ventilation fans to be used",{"$f":"'Data Entry'!H5","v":0},"Minimum ventilation fan capacity m³/hr",{"$f":"'Data Entry'!H8","v":0},null,"Cycle timer Length (Seconds)",{"$f":"'Data Entry'!H11","v":0}]
[]
[null,null,"Weight","Minimum Air requirements / bird","Minimum Air requirements / house","Cycle timer requirements"]
[null,null,null,null,null,"Time on (s)","Time off (s)","Suggested Ideal Number of Fans To Use with Simple step up programme","Fans in Use based on Number Available","Time on (s)","Time off (s)"]
[null,null,0.05,7.993726751610665E-2,{"$f":"'Data Entry'!$C$5*D8","v":0},{"$f":"IFERROR(SUM(L8/H8),\"\")","v":""},{"$f":"IFERROR(SUM($J$4-F8),\"\")","v":""},{"$f":"IFERROR(IF(L8<SUM($J$4/4),1,IF(L8>SUM($J$4/1),4,IF(L8>SUM($J$4/2),3,2))),\"\")","v":""},{"$f":"$E$4","v":0},{"$f":"IFERROR(SUM(L8/I8),\"\")","v":""},{"$f":"IFERROR(SUM($J$4-J8),\"\")","v":""},{"$f":"SUM($E8/$G$4)*SUM($J$4/$E$4)","v":{"$error":"#DIV/0!"}},{"$f":"IF(K8<0,IF(K7=$K$7,$R$1,\"\"),\"\")","v":""}]
[null,null,0.1,0.1408397292750827,{"$f":"'Data Entry'!$C$5*D9","v":0},{"$f":"IFERROR(SUM(L9/H9),\"\")","v":""},{"$f":"IFERROR(SUM($J$4-F9),\"\")","v":""},{"$f":"IFERROR(IF(L9<SUM($J$4/4),1,IF(L9>SUM($J$4/1),4,IF(L9>SUM($J$4/2),3,2))),\"\")","v":""},{"$f":"$E$4","v":0},{"$f":"IFERROR(SUM(L9/I9),\"\")","v":""},{"$f":"IFERROR(SUM($J$4-J9),\"\")","v":""},{"$error":"#DIV/0!"},{"$f":"IF(K9<0,IF(K8>=0,$R$1,$R$2),\"\")","v":""}]
[null,null,0.2,0.25839626939502697,{"$f":"'Data Entry'!$C$5*D10","v":0},"","","",0,"","",{"$error":"#DIV/0!"},{"$f":"IF(K10<0,IF(K9>=0,$R$1,IF(K8>=0,$R$2,$R$3)),\"\")","v":""}]
[null,null,0.3,0.35023108012598325,{"$f":"'Data Entry'!$C$5*D11","v":0},"","","",0,"","",{"$error":"#DIV/0!"},{"$f":"IF(K11<0,IF(K10>=0,$R$1,IF(K9>=0,$R$2,IF(K8>=0,$R$3,\"\"))),\"\")","v":""}]
[null,null,0.4,0.43456899329842258,{"$f":"'Data Entry'!$C$5*D12","v":0},"","","",0,"","",{"$error":"#DIV/0!"},""]
[null,null,0.5,0.51373747368117539,{"$f":"'Data Entry'!$C$5*D13","v":0},"","","",0,"","",{"$error":"#DIV/0!"},""]
[null,null,0.6,0.5890161195767516,{"$f":"'Data Entry'!$C$5*D14","v":0},"","","",0,"","",{"$error":"#DIV/0!"},""]
[null,null,0.7,0.66120674090431564,{"$f":"'Data Entry'!$C$5*D15","v":0},"","","",0,"","",{"$error":"#DIV/0!"},""]
[null,null,0.8,0.73085501729011793,{"$f":"'Data Entry'!$C$5*D16","v":0},"","","",0,"","",{"$error":"#DIV/0!"},""]
[null,null,0.9,0.79835421871207313,{"$f":"'Data Entry'!$C$5*D17","v":0},"","","",0,"","",{"$error":"#DIV/0!"},""]
[null,null,1,0.86399999999999999,{"$f":"'Data Entry'!$C$5*D18","v":0},"","","",0,"","",{"$error":"#DIV/0!"},""]
[null,null,1.2,0.99060308695748756,{"$f":"'Data Entry'!$C$5*D19","v":0},"","","",0,"","",{"$error":"#DIV/0!"},""]
[null,null,1.4,1.1120127563360613,{"$f":"'Data Entry'!$C$5*D20","v":0},"","","",0,"","",{"$error":"#DIV/0!"},""]
[null,null,1.6,1.2291467282189035,{"$f":"'Data Entry'!$C$5*D21","v":0},"","","",0,"","",{"$error":"#DIV/0!"},""]
[null,null,1.8,1.3426664012353249,{"$f":"'Data Entry'!$C$5*D22","v":0},"","","",0,"","",{"$error":"#DIV/0!"},""]
[null,null,2,1.4530690055584188,{"$f":"'Data Entry'!$C$5*D23","v":0},"","","",0,"","",{"$error":"#DIV/0!"},""]
[null,null,2.2000000000000002,1.5607406903653487,{"$f":"'Data Entry'!$C$5*D24","v":0},"","","",0,"","",{"$error":"#DIV/0!"},""]
[null,null,2.4,1.6659891695236297,{"$f":"'Data Entry'!$C$5*D25","v":0},"","","",0,"","",{"$error":"#DIV/0!"},""]
[null,null,2.6,1.7690648499245059,{"$f":"'Data Entry'!$C$5*D26","v":0},"","","",0,"","",{"$error":"#DIV/0!"},""]
[null,null,2.8,1.8701750810387927,{"$f":"'Data Entry'!$C$5*D27","v":0},"","","",0,"","",{"$error":"#DIV/0!"},{"$f":"IF(K27<0,IF(K26>=0,$R$1,IF(K25>=0,$R$2,IF(K24>=0,$R$3,\"\"))),\"\")","v":""}]
[null,null,3,1.9694940972089279,{"$f":"'Data Entry'!$C$5*D28","v":0},"","","",0,"","",{"$error":"#DIV/0!"},""]
[null,null,3.2,2.0671701551602153,{"$f":"'Data Entry'!$C$5*D29","v":0},"","","",0,"","",{"$error":"#DIV/0!"},""]
[null,null,3.4,2.1633307838262028,{"$f":"'Data Entry'!$C$5*D30","v":0},"","","",0,"","",{"$error":"#DIV/0!"},""]
[null,null,3.6,2.2580867273607805,{"$f":"'Data Entry'!$C$5*D31","v":0},"","","",0,"","",{"$error":"#DIV/0!"},""]
[null,null,3.8,2.351534961111382,{"$f":"'Data Entry'!$C$5*D32","v":0},"","","",0,"","",{"$error":"#DIV/0!"},""]
[null,null,4,2.443761035780708,{"$f":"'Data Entry'!$C$5*D33","v":0},"","","",0,"","",{"$error":"#DIV/0!"},""]
[null,null,4.2,2.5348409254917859,{"$f":"'Data Entry'!$C$5*D34","v":0},"","","",0,"","",{"$error":"#DIV/0!"},""]
[null,null,4.4000000000000004,2.6248425033376583,{"$f":"'Data Entry'!$C$5*D35","v":0},"","","",0,"","",{"$error":"#DIV/0!"},""]
[null,null,null,null,null,null,null,null,null,null,null,null,{"$f":"IF(K36=\"\",IF(K35<0,IF(K34>=0,$R$2,IF(K33>=0,$R$3,\"\")),\"\"),\"\")","v":""}]
[null,null,null,null,null,null,null,null,null,null,null,null,{"$f":"IF(K37=\"\",IF(K36=\"\",IF(K35<0,IF(K34>=0,$R$3,\"\"),\"\"),\"\"),\"\")","v":""}]

{"sheet":"Stocking Density","index":4,"n_rows":7,"n_cols":2,"rows_kept":7,"cut":false,"hidden":true,"merged":[]}
[]
[null,"33 kg/m2 EU Broiler Welfare Directive"]
[null,"39 kg/m2 EU Broiler Welfare Directive"]
[null,"42 kg/m2 EU Broiler Welfare Directive"]
[null,"32 kg/m2 (<2.04 kg) USA National Chicken Council"]
[null,"37 kg/m2 (2.04 - 2.49 kg) USA National Chicken Council"]
[null,"42 kg/m2 (>2.49 kg) USA National Chicken Council"]